BEGIN:VCALENDAR
VERSION:2.0
PRODID:-//Lions Club of Savannah - ECPv6.15.20//NONSGML v1.0//EN
CALSCALE:GREGORIAN
METHOD:PUBLISH
X-ORIGINAL-URL:https://lionsclubofsavannah.com
X-WR-CALDESC:Events for Lions Club of Savannah
REFRESH-INTERVAL;VALUE=DURATION:PT1H
X-Robots-Tag:noindex
X-PUBLISHED-TTL:PT1H
BEGIN:VTIMEZONE
TZID:UTC
BEGIN:STANDARD
TZOFFSETFROM:+0000
TZOFFSETTO:+0000
TZNAME:UTC
DTSTART:20240101T000000
END:STANDARD
END:VTIMEZONE
BEGIN:VEVENT
DTSTART;TZID=UTC:20251128T090000
DTEND;TZID=UTC:20251212T200000
DTSTAMP:20260422T113546
CREATED:20251113T131504Z
LAST-MODIFIED:20251113T131504Z
UID:3117-1764320400-1765569600@lionsclubofsavannah.com
SUMMARY:Lions Club Christmas Tree Fundraiser
DESCRIPTION:We need all Lions to host our 49th annual Christmas tree sales fundraiser! \nHours will vary\, see Lion Ellen or Lion Diane for volunteer time blocks. \nDaffin Park by the tennis courts. \nHours are subject to change due to inclement weather.
URL:https://lionsclubofsavannah.com/event/lions-club-christmas-tree-fundraiser/
LOCATION:GA
END:VEVENT
BEGIN:VEVENT
DTSTART;TZID=UTC:20251204T120000
DTEND;TZID=UTC:20251204T133000
DTSTAMP:20260422T113546
CREATED:20250721T001646Z
LAST-MODIFIED:20250721T001646Z
UID:3020-1764849600-1764855000@lionsclubofsavannah.com
SUMMARY:Business Meeting\, Noon\, The Pirates’ House
DESCRIPTION:
URL:https://lionsclubofsavannah.com/event/business-meeting-noon-the-pirates-house-30/
LOCATION:The Pirates House\, 20 E Broad St\, GA\, 31401\, United States
END:VEVENT
BEGIN:VEVENT
DTSTART;TZID=UTC:20251214T173000
DTEND;TZID=UTC:20251214T200000
DTSTAMP:20260422T113546
CREATED:20250721T001942Z
LAST-MODIFIED:20251120T021118Z
UID:3021-1765733400-1765742400@lionsclubofsavannah.com
SUMMARY:Club Christmas Dinner
DESCRIPTION:This is a ticketed event. Tickets are $65 per person. \n“Coat and tie” dress code\, or ugly Christmas sweater! \nLion Diane will call you for your menu selection. Entree choices include Honey Pecan Fried Chicken\, Lemon Honey Planked Salmon\, and a Steak choice. Dessert options include Key Lime Pie\, Cheesecake\, and Chocolate Torte. \nCocktails at 5:30 and dinner service at 6:30.
URL:https://lionsclubofsavannah.com/event/club-christmas-dinner/
LOCATION:The Pirates House\, 20 E Broad St\, GA\, 31401\, United States
END:VEVENT
BEGIN:VEVENT
DTSTART;TZID=UTC:20251217T120000
DTEND;TZID=UTC:20251217T130000
DTSTAMP:20260422T113546
CREATED:20250721T002126Z
LAST-MODIFIED:20250721T002126Z
UID:3022-1765972800-1765976400@lionsclubofsavannah.com
SUMMARY:Board of Director’s Meeting\, Noon\, Savannah Center for Blind and Low Vision
DESCRIPTION:All Lions may attend. Lions must notify the Secretary to ensure seats are available in the room\, and that they are on the agenda\, if necessary. Lunch is $5 and provided by our host.
URL:https://lionsclubofsavannah.com/event/board-of-directors-meeting-noon-savannah-center-for-blind-and-low-vision-18/
LOCATION:Savannah Center for Blind and Low Vision\, 1141 Cornell Ave\, Savannah\, GA\, 31406\, United States
END:VEVENT
END:VCALENDAR