BEGIN:VCALENDAR
VERSION:2.0
PRODID:-//Lions Club of Savannah - ECPv6.15.20//NONSGML v1.0//EN
CALSCALE:GREGORIAN
METHOD:PUBLISH
X-WR-CALNAME:Lions Club of Savannah
X-ORIGINAL-URL:https://lionsclubofsavannah.com
X-WR-CALDESC:Events for Lions Club of Savannah
REFRESH-INTERVAL;VALUE=DURATION:PT1H
X-Robots-Tag:noindex
X-PUBLISHED-TTL:PT1H
BEGIN:VTIMEZONE
TZID:UTC
BEGIN:STANDARD
TZOFFSETFROM:+0000
TZOFFSETTO:+0000
TZNAME:UTC
DTSTART:20230101T000000
END:STANDARD
END:VTIMEZONE
BEGIN:VEVENT
DTSTART;TZID=UTC:20240201T080000
DTEND;TZID=UTC:20240201T170000
DTSTAMP:20260421T224138
CREATED:20240201T162744Z
LAST-MODIFIED:20240201T162744Z
UID:2010-1706774400-1706806800@lionsclubofsavannah.com
SUMMARY:No Regular Meeting Today
DESCRIPTION:The Lions Club does not meet today at The Pirates’ House. See you at the Valentine’s Dinner!
URL:https://lionsclubofsavannah.com/event/no-regular-meeting-today/
LOCATION:GA
END:VEVENT
BEGIN:VEVENT
DTSTART;TZID=UTC:20240203T180000
DTEND;TZID=UTC:20240203T210000
DTSTAMP:20260421T224138
CREATED:20230607T012817Z
LAST-MODIFIED:20240201T162902Z
UID:1922-1706983200-1706994000@lionsclubofsavannah.com
SUMMARY:Valentine's Day Dinner Party
DESCRIPTION:Location: The Pirates’ House \nTime: Cocktails at 6pm\, dinner to follow. \nThis is a ticketed event. See Diane Lapsley for reservations and menu selection.
URL:https://lionsclubofsavannah.com/event/valentines-day-dinner-party/
LOCATION:The Pirates House\, 20 E Broad St\, GA\, 31401\, United States
END:VEVENT
BEGIN:VEVENT
DTSTART;TZID=UTC:20240213T120000
DTEND;TZID=UTC:20240213T130000
DTSTAMP:20260421T224138
CREATED:20230607T013124Z
LAST-MODIFIED:20230607T013124Z
UID:1923-1707825600-1707829200@lionsclubofsavannah.com
SUMMARY:Board of Director's Meeting\, Noon\, The Pirates' House
DESCRIPTION:Lions and their guests must notify the Secretary to ensure seats are available in the room\, and that they are on the agenda\, if necessary.
URL:https://lionsclubofsavannah.com/event/board-of-directors-meeting-noon-the-pirates-house-17/
LOCATION:The Pirates House\, 20 E Broad St\, GA\, 31401\, United States
END:VEVENT
BEGIN:VEVENT
DTSTART;TZID=UTC:20240215T120000
DTEND;TZID=UTC:20240215T133000
DTSTAMP:20260421T224138
CREATED:20230607T013442Z
LAST-MODIFIED:20240206T174836Z
UID:1924-1707998400-1708003800@lionsclubofsavannah.com
SUMMARY:Regular Meeting\, Noon\, The Pirates' House
DESCRIPTION:Join to hear our guest speaker Dr. Ron Levit\, Orthopedic Surgery Specialist speak about injury prevention and healthy practices.
URL:https://lionsclubofsavannah.com/event/regular-meeting-noon-the-pirates-house-24/
LOCATION:The Pirates House\, 20 E Broad St\, GA\, 31401\, United States
END:VEVENT
BEGIN:VEVENT
DTSTART;TZID=UTC:20240215T183000
DTEND;TZID=UTC:20240215T200000
DTSTAMP:20260421T224138
CREATED:20231204T225236Z
LAST-MODIFIED:20231204T225236Z
UID:1995-1708021800-1708027200@lionsclubofsavannah.com
SUMMARY:Lions Club Monthly Evening Meeting
DESCRIPTION:To include members who can’t attend lunch meetings\, we are now hosting monthly evening meetings. \nJoin us for food\, fun\, and maybe a surprise guest speaker. Expect a Valentine’s Day theme. \nAt The 5 Spot in Sandfly. 7360 Skidaway Road\, Savannah\, GA 31406
URL:https://lionsclubofsavannah.com/event/lions-club-monthly-evening-meeting/
LOCATION:5 Spot Sandfly\, 7360 Skidaway Rd\, Savannah\, GA\, 31406\, United States
END:VEVENT
BEGIN:VEVENT
DTSTART;TZID=UTC:20240221T130000
DTEND;TZID=UTC:20240221T160000
DTSTAMP:20260421T224138
CREATED:20240322T022355Z
LAST-MODIFIED:20240322T022355Z
UID:2744-1708520400-1708531200@lionsclubofsavannah.com
SUMMARY:Vision Screening
DESCRIPTION:Lions are encouraged to promote and volunteer for the Vision Screening at The Savannah Center of Blind and Low Vision organized by Lion Lois Modell. \nHours are from 1-4pm
URL:https://lionsclubofsavannah.com/event/vision-screening/
LOCATION:Savannah Center for Blind and Low Vision\, 1141 Cornell Ave\, Savannah\, GA\, 31406\, United States
END:VEVENT
END:VCALENDAR