BEGIN:VCALENDAR
VERSION:2.0
PRODID:-//Lions Club of Savannah - ECPv6.15.20//NONSGML v1.0//EN
CALSCALE:GREGORIAN
METHOD:PUBLISH
X-ORIGINAL-URL:https://lionsclubofsavannah.com
X-WR-CALDESC:Events for Lions Club of Savannah
REFRESH-INTERVAL;VALUE=DURATION:PT1H
X-Robots-Tag:noindex
X-PUBLISHED-TTL:PT1H
BEGIN:VTIMEZONE
TZID:UTC
BEGIN:STANDARD
TZOFFSETFROM:+0000
TZOFFSETTO:+0000
TZNAME:UTC
DTSTART:20230101T000000
END:STANDARD
END:VTIMEZONE
BEGIN:VEVENT
DTSTART;TZID=UTC:20240104T120000
DTEND;TZID=UTC:20240104T133000
DTSTAMP:20260421T175716
CREATED:20230607T012024Z
LAST-MODIFIED:20230607T012024Z
UID:1919-1704369600-1704375000@lionsclubofsavannah.com
SUMMARY:Regular Meeting\, Noon\, The Pirates' House
DESCRIPTION:Join us for a fun meeting where we outline our club’s resolutions for the New Year!
URL:https://lionsclubofsavannah.com/event/regular-meeting-noon-the-pirates-house-23/
LOCATION:The Pirates House\, 20 E Broad St\, GA\, 31401\, United States
END:VEVENT
BEGIN:VEVENT
DTSTART;TZID=UTC:20240116T120000
DTEND;TZID=UTC:20240116T133000
DTSTAMP:20260421T175716
CREATED:20230607T012234Z
LAST-MODIFIED:20230607T012234Z
UID:1920-1705406400-1705411800@lionsclubofsavannah.com
SUMMARY:Board of Director's Meeting\, Noon\, The Pirates' House
DESCRIPTION:Lions and their guests must notify the Secretary to ensure seats are available in the room\, and that they are on the agenda\, if necessary.
URL:https://lionsclubofsavannah.com/event/board-of-directors-meeting-noon-the-pirates-house-16/
LOCATION:The Pirates House\, 20 E Broad St\, GA\, 31401\, United States
END:VEVENT
BEGIN:VEVENT
DTSTART;TZID=UTC:20240117T130000
DTEND;TZID=UTC:20240117T160000
DTSTAMP:20260421T175716
CREATED:20240322T022644Z
LAST-MODIFIED:20240322T022737Z
UID:2745-1705496400-1705507200@lionsclubofsavannah.com
SUMMARY:Vision Screening
DESCRIPTION:Lions are encouraged to promote and volunteer for the Vision Screening at The Savannah Center of Blind and Low Vision organized by Lion Lois Modell. \nHours are from 1-4pm
URL:https://lionsclubofsavannah.com/event/vision-screening-2/
LOCATION:Savannah Center for Blind and Low Vision\, 1141 Cornell Ave\, Savannah\, GA\, 31406\, United States
END:VEVENT
BEGIN:VEVENT
DTSTART;TZID=UTC:20240118T120000
DTEND;TZID=UTC:20240118T133000
DTSTAMP:20260421T175716
CREATED:20230607T012428Z
LAST-MODIFIED:20240119T035825Z
UID:1921-1705579200-1705584600@lionsclubofsavannah.com
SUMMARY:Business Meeting\, Noon\, The Pirate's House
DESCRIPTION:Join us to hear special guest speaker Alderman Kurtis Purtee (Savannah District 6). He will share a little about what Lionism means to him through the legacy of his grandfather\, give updates on city initiatives\, and take questions. \nWe will also be joined by PDG Mary Bumpus (Ohio) on her annual visit to our club. \nIt will be a good time!
URL:https://lionsclubofsavannah.com/event/business-meeting-noon-the-pirates-house-12/
LOCATION:The Pirates House\, 20 E Broad St\, GA\, 31401\, United States
END:VEVENT
BEGIN:VEVENT
DTSTART;TZID=UTC:20240118T183000
DTEND;TZID=UTC:20240118T200000
DTSTAMP:20260421T175716
CREATED:20231204T225111Z
LAST-MODIFIED:20231204T225111Z
UID:1994-1705602600-1705608000@lionsclubofsavannah.com
SUMMARY:Lions Club Evening Meeting and Social
DESCRIPTION:Join us as we kick off the first evening meeting of 2024! To include members who can’t attend lunch meetings\, we are now hosting monthly evening meetings. \nJoin us for food\, fun\, and maybe a surprise guest speaker. \nAt The 5 Spot in Sandfly. 7360 Skidaway Road\, Savannah\, GA 31406
URL:https://lionsclubofsavannah.com/event/lions-club-evening-meeting-and-social/
LOCATION:5 Spot Sandfly\, 7360 Skidaway Rd\, Savannah\, GA\, 31406\, United States
END:VEVENT
END:VCALENDAR