BEGIN:VCALENDAR
VERSION:2.0
PRODID:-//Lions Club of Savannah - ECPv6.15.20//NONSGML v1.0//EN
CALSCALE:GREGORIAN
METHOD:PUBLISH
X-WR-CALNAME:Lions Club of Savannah
X-ORIGINAL-URL:https://lionsclubofsavannah.com
X-WR-CALDESC:Events for Lions Club of Savannah
REFRESH-INTERVAL;VALUE=DURATION:PT1H
X-Robots-Tag:noindex
X-PUBLISHED-TTL:PT1H
BEGIN:VTIMEZONE
TZID:UTC
BEGIN:STANDARD
TZOFFSETFROM:+0000
TZOFFSETTO:+0000
TZNAME:UTC
DTSTART:20220101T000000
END:STANDARD
END:VTIMEZONE
BEGIN:VEVENT
DTSTART;TZID=UTC:20231207T120000
DTEND;TZID=UTC:20231207T133000
DTSTAMP:20260421T132802
CREATED:20231019T020057Z
LAST-MODIFIED:20231019T020057Z
UID:1990-1701950400-1701955800@lionsclubofsavannah.com
SUMMARY:No Lions Club Meeting Today
DESCRIPTION:The Lions do not meet at The Pirates’ House today.
URL:https://lionsclubofsavannah.com/event/no-lions-club-meeting-today/
LOCATION:GA
END:VEVENT
BEGIN:VEVENT
DTSTART;TZID=UTC:20231214T183000
DTEND;TZID=UTC:20231214T213000
DTSTAMP:20260421T132802
CREATED:20231204T224706Z
LAST-MODIFIED:20231204T224706Z
UID:1993-1702578600-1702589400@lionsclubofsavannah.com
SUMMARY:Club Holiday Dinner Party
DESCRIPTION:The holiday dinner party is rescheduled due to an overlapping and conflicting event at The Pirates’ House. \nJoin us at the home of our President and Two Year Director\, Larry and Sherri Forbes. \nYou must RSVP to Diane no later than Monday\, 11 December. \nThe event is catered\, and includes beer\, wine\, and non-alcoholic punch. \nFestivities begin at 6:30pm\, and concludes around 9:30. \nPlease wear your festive holiday attire. \nThe cost is $15 for non-member guests. \n7620 Central Avenue\, Savannah\, Ga.\, 31406. Street parking.
URL:https://lionsclubofsavannah.com/event/club-holiday-dinner-party/
LOCATION:GA
END:VEVENT
BEGIN:VEVENT
DTSTART;TZID=UTC:20231219T120000
DTEND;TZID=UTC:20231219T130000
DTSTAMP:20260421T132802
CREATED:20230607T011553Z
LAST-MODIFIED:20230607T011553Z
UID:1916-1702987200-1702990800@lionsclubofsavannah.com
SUMMARY:Board of Director's Meeting\, Noon\, The Pirates' House
DESCRIPTION:Lions and their guests must notify the Secretary to ensure seats are available in the room\, and that they are on the agenda\, if necessary.
URL:https://lionsclubofsavannah.com/event/board-of-directors-meeting-noon-the-pirates-house-15/
LOCATION:The Pirates House\, 20 E Broad St\, GA\, 31401\, United States
END:VEVENT
BEGIN:VEVENT
DTSTART;TZID=UTC:20231221T120000
DTEND;TZID=UTC:20231221T133000
DTSTAMP:20260421T132802
CREATED:20230607T011725Z
LAST-MODIFIED:20231224T001344Z
UID:1917-1703160000-1703165400@lionsclubofsavannah.com
SUMMARY:Regular Meeting\, Noon\, The Pirates' House
DESCRIPTION:Join us to hear Julie Hunt\, CEO and Founder of Tharros Place\, Savannah’s first non-profit to house and support survivors of human trafficking.
URL:https://lionsclubofsavannah.com/event/regular-meeting-noon-the-pirates-house-22/
LOCATION:The Pirates House\, 20 E Broad St\, GA\, 31401\, United States
END:VEVENT
BEGIN:VEVENT
DTSTART;TZID=UTC:20231222T190000
DTEND;TZID=UTC:20231222T220000
DTSTAMP:20260421T132802
CREATED:20230922T022605Z
LAST-MODIFIED:20230922T022605Z
UID:1963-1703271600-1703282400@lionsclubofsavannah.com
SUMMARY:Lions Night at The Ghost Pirates
DESCRIPTION:A special Thank You to Lion Rushe for putting this event together\, you do not want to miss it! \nJoin us at a Ghost Pirates hockey game in a special viewing area with food and beverages. \nWe will have our Lions Club information table set up with service and membership information. \nWear your Lions Club gear for your chance to be seen on the Jumbo Screen! \nSpecial parking available. \nTickets sales online.
URL:https://lionsclubofsavannah.com/event/lions-night-at-the-ghost-pirates/
LOCATION:EnMarket Arena\, 620 Stiles Avenue\, Savannah\, GA\, 31415
END:VEVENT
BEGIN:VEVENT
DTSTART;TZID=UTC:20231224T080000
DTEND;TZID=UTC:20231224T170000
DTSTAMP:20260421T132802
CREATED:20231224T002114Z
LAST-MODIFIED:20231224T002114Z
UID:1999-1703404800-1703437200@lionsclubofsavannah.com
SUMMARY:Lions Night at the Ghost Pirates
DESCRIPTION:Our 2nd fundraiser in partnership with The Ghost Pirates. \nTickets are NOT reserved specifically for Lions and their guests. They sell out quickly! \nAs soon as the link is posted\, purchase and share! The Club gets a portion of each ticket sale within our designated section. \nParking can be purchased separately
URL:https://lionsclubofsavannah.com/event/lions-night-at-the-ghost-pirates-2/
LOCATION:GA
END:VEVENT
END:VCALENDAR