BEGIN:VCALENDAR
VERSION:2.0
PRODID:-//Lions Club of Savannah - ECPv6.15.20//NONSGML v1.0//EN
CALSCALE:GREGORIAN
METHOD:PUBLISH
X-WR-CALNAME:Lions Club of Savannah
X-ORIGINAL-URL:https://lionsclubofsavannah.com
X-WR-CALDESC:Events for Lions Club of Savannah
REFRESH-INTERVAL;VALUE=DURATION:PT1H
X-Robots-Tag:noindex
X-PUBLISHED-TTL:PT1H
BEGIN:VTIMEZONE
TZID:UTC
BEGIN:STANDARD
TZOFFSETFROM:+0000
TZOFFSETTO:+0000
TZNAME:UTC
DTSTART:20210101T000000
END:STANDARD
END:VTIMEZONE
BEGIN:VEVENT
DTSTART;TZID=UTC:20220804T120000
DTEND;TZID=UTC:20220804T133000
DTSTAMP:20260425T141607
CREATED:20220809T211035Z
LAST-MODIFIED:20220809T211035Z
UID:1711-1659614400-1659619800@lionsclubofsavannah.com
SUMMARY:Regular Meeting
DESCRIPTION:
URL:https://lionsclubofsavannah.com/event/regular-meeting/
LOCATION:The Pirates House\, 20 E Broad St\, GA\, 31401\, United States
END:VEVENT
BEGIN:VEVENT
DTSTART;TZID=UTC:20220811T120000
DTEND;TZID=UTC:20220811T130000
DTSTAMP:20260425T141607
CREATED:20220809T214302Z
LAST-MODIFIED:20220809T214302Z
UID:1723-1660219200-1660222800@lionsclubofsavannah.com
SUMMARY:Young Professional Lions & BNI\, Noon\, Kayak Cafe
DESCRIPTION:Focused networking among professionals in a casual setting with serious results!
URL:https://lionsclubofsavannah.com/event/young-professional-lions-bni-noon-kayak-cafe/
LOCATION:Kayak Kafe\, 5002 Paulsen Street\, Savannah\, GA\, 31405\, United States
END:VEVENT
BEGIN:VEVENT
DTSTART;TZID=UTC:20220813T100000
DTEND;TZID=UTC:20220813T140000
DTSTAMP:20260425T141607
CREATED:20220811T023220Z
LAST-MODIFIED:20220811T023934Z
UID:1734-1660384800-1660399200@lionsclubofsavannah.com
SUMMARY:District 18-N Meeting\, 10-2pm\, The Lyons Depot
DESCRIPTION:The first District meeting of the year will be Saturday\, August 13\, at The Depot in Lyons\, GA\nTopic: Coordination of District Service Projects \nThe day starts with 2 training sessions:\n10:00     Service Counts\n11:00     Membership \nLunch will be provided by the Lyons Lions Club;\n1:00  Cabinet Meeting
URL:https://lionsclubofsavannah.com/event/district-18-n-meeting-10-2pm-the-lyons-depot/
LOCATION:The Lyons Depot\, 254 West Liberty Street\, Lyons\, GA\, 30436
END:VEVENT
BEGIN:VEVENT
DTSTART;TZID=UTC:20220816T120000
DTEND;TZID=UTC:20220816T130000
DTSTAMP:20260425T141607
CREATED:20220809T212159Z
LAST-MODIFIED:20220809T212159Z
UID:1716-1660651200-1660654800@lionsclubofsavannah.com
SUMMARY:Board Meeting\, Noon\, The Pirates' House
DESCRIPTION:
URL:https://lionsclubofsavannah.com/event/board-meeting-noon-the-pirates-house/
LOCATION:The Pirates House\, 20 E Broad St\, GA\, 31401\, United States
END:VEVENT
BEGIN:VEVENT
DTSTART;TZID=UTC:20220816T173000
DTEND;TZID=UTC:20220816T200000
DTSTAMP:20260425T141607
CREATED:20220809T213717Z
LAST-MODIFIED:20220809T213717Z
UID:1721-1660671000-1660680000@lionsclubofsavannah.com
SUMMARY:Young Professional Lions Networking Event\, 5:30pm\, Sweet Potatoes Kitchen
DESCRIPTION:
URL:https://lionsclubofsavannah.com/event/young-professional-lions-networking-event-530pm-sweet-potatoes-kitchen/
LOCATION:Sweet Potatoes Kitchen\, 531 Stephenson Avenue\, Savannah\, 31405\, United States
END:VEVENT
BEGIN:VEVENT
DTSTART;TZID=UTC:20220818T120000
DTEND;TZID=UTC:20220818T133000
DTSTAMP:20260425T141607
CREATED:20220809T211652Z
LAST-MODIFIED:20220816T192821Z
UID:1712-1660824000-1660829400@lionsclubofsavannah.com
SUMMARY:CANCELED Business Meeting\, Noon\, The Pirates' House CANCELED
DESCRIPTION:Due to memorial service of family member of Past President Sherri Denmark-Forbes\, and 2nd Vice President Larry Forbes.\nNoon\, Fox and Weeks\, Hodgson Memorial Drive.
URL:https://lionsclubofsavannah.com/event/business-meeting-noon-the-pirates-house-4/
LOCATION:GA
END:VEVENT
BEGIN:VEVENT
DTSTART;TZID=UTC:20220825T120000
DTEND;TZID=UTC:20220825T130000
DTSTAMP:20260425T141607
CREATED:20220809T214407Z
LAST-MODIFIED:20220809T214407Z
UID:1725-1661428800-1661432400@lionsclubofsavannah.com
SUMMARY:Young Professional Lions & BNI\, Noon\, Kayak Kafe
DESCRIPTION:Focused networking among professionals in a casual setting with serious results!
URL:https://lionsclubofsavannah.com/event/young-professional-lions-bni-noon-kayak-kafe/
LOCATION:Kayak Kafe\, 5002 Paulsen Street\, Savannah\, GA\, 31405\, United States
END:VEVENT
END:VCALENDAR