BEGIN:VCALENDAR
VERSION:2.0
PRODID:-//Lions Club of Savannah - ECPv6.15.20//NONSGML v1.0//EN
CALSCALE:GREGORIAN
METHOD:PUBLISH
X-WR-CALNAME:Lions Club of Savannah
X-ORIGINAL-URL:https://lionsclubofsavannah.com
X-WR-CALDESC:Events for Lions Club of Savannah
REFRESH-INTERVAL;VALUE=DURATION:PT1H
X-Robots-Tag:noindex
X-PUBLISHED-TTL:PT1H
BEGIN:VTIMEZONE
TZID:UTC
BEGIN:STANDARD
TZOFFSETFROM:+0000
TZOFFSETTO:+0000
TZNAME:UTC
DTSTART:20250101T000000
END:STANDARD
END:VTIMEZONE
BEGIN:VEVENT
DTSTART;TZID=UTC:20260205T120000
DTEND;TZID=UTC:20260205T130000
DTSTAMP:20260424T132906
CREATED:20260122T023453Z
LAST-MODIFIED:20260122T023453Z
UID:3135-1770292800-1770296400@lionsclubofsavannah.com
SUMMARY:Regular Meeting
DESCRIPTION:Regular meeting at The Pirates’ House. Speaker TBD. Please remember that the meeting now begins at noon\, not 12:30.
URL:https://lionsclubofsavannah.com/event/regular-meeting-3/
LOCATION:The Pirates House\, 20 E Broad St\, GA\, 31401\, United States
END:VEVENT
END:VCALENDAR