BEGIN:VCALENDAR
VERSION:2.0
PRODID:-//Lions Club of Savannah - ECPv6.15.20//NONSGML v1.0//EN
CALSCALE:GREGORIAN
METHOD:PUBLISH
X-ORIGINAL-URL:https://lionsclubofsavannah.com
X-WR-CALDESC:Events for Lions Club of Savannah
REFRESH-INTERVAL;VALUE=DURATION:PT1H
X-Robots-Tag:noindex
X-PUBLISHED-TTL:PT1H
BEGIN:VTIMEZONE
TZID:UTC
BEGIN:STANDARD
TZOFFSETFROM:+0000
TZOFFSETTO:+0000
TZNAME:UTC
DTSTART:20240101T000000
END:STANDARD
END:VTIMEZONE
BEGIN:VEVENT
DTSTART;TZID=UTC:20251122T090000
DTEND;TZID=UTC:20251126T180000
DTSTAMP:20260424T200439
CREATED:20251113T131310Z
LAST-MODIFIED:20251113T131310Z
UID:3116-1763802000-1764180000@lionsclubofsavannah.com
SUMMARY:Lions Club Christmas Tree Fundraiser in Daffin Park
DESCRIPTION:We need all Lions to host our 49th annual Christmas tree sales fundraiser! \nHours will vary\, see Lion Ellen or Lion Diane for volunteer time blocks. \nDaffin Park by the tennis courts. \n 
URL:https://lionsclubofsavannah.com/event/lions-club-christmas-tree-fundraiser-in-daffin-park/
LOCATION:GA
END:VEVENT
END:VCALENDAR