BEGIN:VCALENDAR
VERSION:2.0
PRODID:-//Lions Club of Savannah - ECPv6.15.20//NONSGML v1.0//EN
CALSCALE:GREGORIAN
METHOD:PUBLISH
X-ORIGINAL-URL:https://lionsclubofsavannah.com
X-WR-CALDESC:Events for Lions Club of Savannah
REFRESH-INTERVAL;VALUE=DURATION:PT1H
X-Robots-Tag:noindex
X-PUBLISHED-TTL:PT1H
BEGIN:VTIMEZONE
TZID:UTC
BEGIN:STANDARD
TZOFFSETFROM:+0000
TZOFFSETTO:+0000
TZNAME:UTC
DTSTART:20240101T000000
END:STANDARD
END:VTIMEZONE
BEGIN:VEVENT
DTSTART;TZID=UTC:20251121T080000
DTEND;TZID=UTC:20251121T140000
DTSTAMP:20260424T235542
CREATED:20251115T010003Z
LAST-MODIFIED:20251115T010003Z
UID:3122-1763712000-1763733600@lionsclubofsavannah.com
SUMMARY:Christmas Trees Arrive
DESCRIPTION:All Lions should help at the tree lot today. The trees will arrive early and Lions need to be on site at 8am or as soon after as able. \nThere will be jobs for Lions of all abilities! \nWear long sleeve shirts and bring gloves. \nThe Salvation Army Cantina will be on site with coffee\, snacks\, water\, etc. Lion Bard will be cooking hotdogs and sausages for lunch. \nThis day is a lot of work but also a lot of fun\, we hope to see you there.
URL:https://lionsclubofsavannah.com/event/christmas-trees-arrive-2/
LOCATION:Daffin Park\, Savannah\, GA\, 31404\, United States
END:VEVENT
END:VCALENDAR