BEGIN:VCALENDAR
VERSION:2.0
PRODID:-//Lions Club of Savannah - ECPv6.15.20//NONSGML v1.0//EN
CALSCALE:GREGORIAN
METHOD:PUBLISH
X-WR-CALNAME:Lions Club of Savannah
X-ORIGINAL-URL:https://lionsclubofsavannah.com
X-WR-CALDESC:Events for Lions Club of Savannah
REFRESH-INTERVAL;VALUE=DURATION:PT1H
X-Robots-Tag:noindex
X-PUBLISHED-TTL:PT1H
BEGIN:VTIMEZONE
TZID:UTC
BEGIN:STANDARD
TZOFFSETFROM:+0000
TZOFFSETTO:+0000
TZNAME:UTC
DTSTART:20240101T000000
END:STANDARD
END:VTIMEZONE
BEGIN:VEVENT
DTSTART;TZID=UTC:20250716T120000
DTEND;TZID=UTC:20250716T130000
DTSTAMP:20260422T141349
CREATED:20250720T234757Z
LAST-MODIFIED:20250720T234757Z
UID:3005-1752667200-1752670800@lionsclubofsavannah.com
SUMMARY:Board of Director’s Meeting\, Noon\, Savannah Center for Blind and Low Vision
DESCRIPTION:All Lions may attend. Lions must notify the Secretary to ensure seats are available in the room\, and that they are on the agenda\, if necessary. Lunch is $5 and provided by our host.
URL:https://lionsclubofsavannah.com/event/board-of-directors-meeting-noon-savannah-center-for-blind-and-low-vision-13/
LOCATION:Savannah Center for Blind and Low Vision\, 1141 Cornell Ave\, Savannah\, GA\, 31406\, United States
END:VEVENT
END:VCALENDAR