BEGIN:VCALENDAR
VERSION:2.0
PRODID:-//Lions Club of Savannah - ECPv6.15.20//NONSGML v1.0//EN
CALSCALE:GREGORIAN
METHOD:PUBLISH
X-ORIGINAL-URL:https://lionsclubofsavannah.com
X-WR-CALDESC:Events for Lions Club of Savannah
REFRESH-INTERVAL;VALUE=DURATION:PT1H
X-Robots-Tag:noindex
X-PUBLISHED-TTL:PT1H
BEGIN:VTIMEZONE
TZID:UTC
BEGIN:STANDARD
TZOFFSETFROM:+0000
TZOFFSETTO:+0000
TZNAME:UTC
DTSTART:20240101T000000
END:STANDARD
END:VTIMEZONE
BEGIN:VEVENT
DTSTART;TZID=UTC:20250704T080000
DTEND;TZID=UTC:20250708T170000
DTSTAMP:20260424T090337
CREATED:20240707T190218Z
LAST-MODIFIED:20240707T190218Z
UID:2841-1751616000-1751994000@lionsclubofsavannah.com
SUMMARY:Lions Club International Convention
DESCRIPTION:Mexico City\, MX \nDetails to be provided!
URL:https://lionsclubofsavannah.com/event/lions-club-international-convention/
LOCATION:GA
END:VEVENT
END:VCALENDAR