BEGIN:VCALENDAR
VERSION:2.0
PRODID:-//Lions Club of Savannah - ECPv6.15.20//NONSGML v1.0//EN
CALSCALE:GREGORIAN
METHOD:PUBLISH
X-WR-CALNAME:Lions Club of Savannah
X-ORIGINAL-URL:https://lionsclubofsavannah.com
X-WR-CALDESC:Events for Lions Club of Savannah
REFRESH-INTERVAL;VALUE=DURATION:PT1H
X-Robots-Tag:noindex
X-PUBLISHED-TTL:PT1H
BEGIN:VTIMEZONE
TZID:UTC
BEGIN:STANDARD
TZOFFSETFROM:+0000
TZOFFSETTO:+0000
TZNAME:UTC
DTSTART:20240101T000000
END:STANDARD
END:VTIMEZONE
BEGIN:VEVENT
DTSTART;TZID=UTC:20250614T173000
DTEND;TZID=UTC:20250614T200000
DTSTAMP:20260421T193502
CREATED:20250220T191457Z
LAST-MODIFIED:20250610T194021Z
UID:2937-1749922200-1749931200@lionsclubofsavannah.com
SUMMARY:Installation of 2025-2026 Leadership
DESCRIPTION:All Lions are encouraged to attend our yearly installation of all elected leaders\, and awards for service. \nDress is black tie. \nCocktails at 5:30\, dinner and program begin at 6pm. \nThis is a ticketed event. Contact Lion Diane for reservations and menu selection. \n 
URL:https://lionsclubofsavannah.com/event/installation-of-2025-2026-leadership/
LOCATION:Elk’s Lodge\, 183 Wilshire Boulevard\, Savannah\, Georgia\, 31419
END:VEVENT
END:VCALENDAR