BEGIN:VCALENDAR
VERSION:2.0
PRODID:-//Lions Club of Savannah - ECPv6.15.20//NONSGML v1.0//EN
CALSCALE:GREGORIAN
METHOD:PUBLISH
X-WR-CALNAME:Lions Club of Savannah
X-ORIGINAL-URL:https://lionsclubofsavannah.com
X-WR-CALDESC:Events for Lions Club of Savannah
REFRESH-INTERVAL;VALUE=DURATION:PT1H
X-Robots-Tag:noindex
X-PUBLISHED-TTL:PT1H
BEGIN:VTIMEZONE
TZID:UTC
BEGIN:STANDARD
TZOFFSETFROM:+0000
TZOFFSETTO:+0000
TZNAME:UTC
DTSTART:20230101T000000
END:STANDARD
END:VTIMEZONE
BEGIN:VEVENT
DTSTART;TZID=UTC:20241122T080000
DTEND;TZID=UTC:20241122T140000
DTSTAMP:20260421T040020
CREATED:20240717T210904Z
LAST-MODIFIED:20240717T210904Z
UID:2851-1732262400-1732284000@lionsclubofsavannah.com
SUMMARY:Christmas Trees Arrive!
DESCRIPTION:All hands on deck needed today to unload our order of 575 trees. \nThere is a job for everyone\, regardless of physical ability! As the trees are being carried and placed in the lot\, we also need help organizing the trailers\, making bows/wreaths/tree toppers/ etc.\, picking up debris\, tagging trees\, etc. \nWear your long sleeve Lion shirt\, and bring your gloves.
URL:https://lionsclubofsavannah.com/event/christmas-trees-arrive/
LOCATION:Daffin Park\, Savannah\, GA\, 31404\, United States
END:VEVENT
END:VCALENDAR