BEGIN:VCALENDAR
VERSION:2.0
PRODID:-//Lions Club of Savannah - ECPv6.15.20//NONSGML v1.0//EN
CALSCALE:GREGORIAN
METHOD:PUBLISH
X-ORIGINAL-URL:https://lionsclubofsavannah.com
X-WR-CALDESC:Events for Lions Club of Savannah
REFRESH-INTERVAL;VALUE=DURATION:PT1H
X-Robots-Tag:noindex
X-PUBLISHED-TTL:PT1H
BEGIN:VTIMEZONE
TZID:UTC
BEGIN:STANDARD
TZOFFSETFROM:+0000
TZOFFSETTO:+0000
TZNAME:UTC
DTSTART:20220101T000000
END:STANDARD
END:VTIMEZONE
BEGIN:VEVENT
DTSTART;TZID=UTC:20231219T120000
DTEND;TZID=UTC:20231219T130000
DTSTAMP:20260421T162915
CREATED:20230607T011553Z
LAST-MODIFIED:20230607T011553Z
UID:1916-1702987200-1702990800@lionsclubofsavannah.com
SUMMARY:Board of Director's Meeting\, Noon\, The Pirates' House
DESCRIPTION:Lions and their guests must notify the Secretary to ensure seats are available in the room\, and that they are on the agenda\, if necessary.
URL:https://lionsclubofsavannah.com/event/board-of-directors-meeting-noon-the-pirates-house-15/
LOCATION:The Pirates House\, 20 E Broad St\, GA\, 31401\, United States
END:VEVENT
END:VCALENDAR