BEGIN:VCALENDAR
VERSION:2.0
PRODID:-//Lions Club of Savannah - ECPv6.15.20//NONSGML v1.0//EN
CALSCALE:GREGORIAN
METHOD:PUBLISH
X-ORIGINAL-URL:https://lionsclubofsavannah.com
X-WR-CALDESC:Events for Lions Club of Savannah
REFRESH-INTERVAL;VALUE=DURATION:PT1H
X-Robots-Tag:noindex
X-PUBLISHED-TTL:PT1H
BEGIN:VTIMEZONE
TZID:UTC
BEGIN:STANDARD
TZOFFSETFROM:+0000
TZOFFSETTO:+0000
TZNAME:UTC
DTSTART:20210101T000000
END:STANDARD
END:VTIMEZONE
BEGIN:VEVENT
DTSTART;TZID=UTC:20220930T080000
DTEND;TZID=UTC:20220930T170000
DTSTAMP:20260421T172631
CREATED:20220919T160742Z
LAST-MODIFIED:20220919T160957Z
UID:1753-1664524800-1664557200@lionsclubofsavannah.com
SUMMARY:Registration Deadline for Marsh and River Lions Club Charter Banquet
DESCRIPTION:
URL:https://lionsclubofsavannah.com/event/registration-deadline-for-marsh-and-river-lions-club-charter-banquet/
LOCATION:GA
END:VEVENT
END:VCALENDAR